BEGIN:VCALENDAR
PRODID:-//eluceo/ical//2.0/EN
VERSION:2.0
CALSCALE:GREGORIAN
BEGIN:VEVENT
UID:fdd1c74d1f184fabc40cfe5597de5c3a
DTSTAMP:20260423T152329Z
SUMMARY:Cteen
DESCRIPTION:Tidewater Jewish Foundation\nCalendar\nhttps://foundation.jewis
 hva.org/calendar/cteen-1698760774-451223\n\nCTeen event for middle and hig
 h school students
DTSTART;TZID=America/New_York:20231112T170000
DTEND;TZID=America/New_York:20231112T183000
END:VEVENT
END:VCALENDAR
