BEGIN:VCALENDAR
PRODID:-//eluceo/ical//2.0/EN
VERSION:2.0
CALSCALE:GREGORIAN
BEGIN:VEVENT
UID:431523465979ad81260ddf3a9826c2ad
DTSTAMP:20260424T063228Z
SUMMARY:CTeen
DESCRIPTION:Tidewater Jewish Foundation\nCalendar\nhttps://foundation.jewis
 hva.org/calendar/cteen-1698769830-451258\n\nMiddle and high school event.
DTSTART;TZID=America/New_York:20240204T170000
DTEND;TZID=America/New_York:20240204T183000
END:VEVENT
END:VCALENDAR
