BEGIN:VCALENDAR
PRODID:-//eluceo/ical//2.0/EN
VERSION:2.0
CALSCALE:GREGORIAN
BEGIN:VEVENT
UID:b11363fdd5950b661059f5aef73465b3
DTSTAMP:20260422T230127Z
SUMMARY:CTeen
DESCRIPTION:Tidewater Jewish Foundation\nCalendar\nhttps://foundation.jewis
 hva.org/calendar/cteen-1698770030-451260\n\nMiddle and high school event.
DTSTART;TZID=America/New_York:20240303T170000
DTEND;TZID=America/New_York:20240303T183000
END:VEVENT
END:VCALENDAR
