BEGIN:VCALENDAR
PRODID:-//eluceo/ical//2.0/EN
VERSION:2.0
CALSCALE:GREGORIAN
BEGIN:VEVENT
UID:8ea5c4fe0e9f33e13d160b85824fac60
DTSTAMP:20260419T173426Z
SUMMARY:CTeen
DESCRIPTION:Tidewater Jewish Foundation\nCalendar\nhttps://foundation.jewis
 hva.org/calendar/cteen-1698770406-451266\n\nmiddle and high school event
DTSTART;TZID=America/New_York:20240609T170000
DTEND;TZID=America/New_York:20240609T183000
END:VEVENT
END:VCALENDAR
