BEGIN:VCALENDAR
PRODID:-//eluceo/ical//2.0/EN
VERSION:2.0
CALSCALE:GREGORIAN
BEGIN:VEVENT
UID:cf92072e8b5a0ab1d63ac0dbb6306bc7
DTSTAMP:20260425T013508Z
SUMMARY:CTeen Event
DESCRIPTION:Tidewater Jewish Foundation\nCalendar\nhttps://foundation.jewis
 hva.org/calendar/cteen-event-1672838812-427139\n\nCteen event for middle a
 nd high school students.
DTSTART;TZID=America/New_York:20230416T170000
DTEND;TZID=America/New_York:20230416T183000
END:VEVENT
END:VCALENDAR
