BEGIN:VCALENDAR
PRODID:-//eluceo/ical//2.0/EN
VERSION:2.0
CALSCALE:GREGORIAN
BEGIN:VEVENT
UID:a37675d687a986ea4b98b2370534e5cb
DTSTAMP:20260422T235635Z
SUMMARY:CTeen U Partnership - Jewish Wellness
DESCRIPTION:Tidewater Jewish Foundation\nCalendar\nhttps://foundation.jewis
 hva.org/calendar/cteen-u-partnership-jewish-wellness-448520\n\nOpen to gra
 des 10-12. Instructed by Rabbi Brashevitzky.\n\nMondays\, 7:15pm\,  at th
 e Simon Family JCC\n\n7 & 14 week options available.  1 college credit pe
 r 7 weeks.\n\n$499 + cost of book\, scholarships available.\n\nProvided by
  a partnership between CTeen U and the Konikoff Center for Learning.\n\nLe
 arn More      Register\n\n \n\n\n\n 
DTSTART;TZID=America/New_York:20231016T191500
DTEND;TZID=America/New_York:20231016T204500
END:VEVENT
END:VCALENDAR
