BEGIN:VCALENDAR
PRODID:-//eluceo/ical//2.0/EN
VERSION:2.0
CALSCALE:GREGORIAN
BEGIN:VEVENT
UID:54e39f69a56edc509e2a7964e6d6bec0
DTSTAMP:20260425T211723Z
SUMMARY:Early Years Transition Week
DESCRIPTION:Tidewater Jewish Foundation\nCalendar\nhttps://foundation.jewis
 hva.org/calendar/early-years-transition-week-1667576608-421278\n\nOpen for
  EY students who signed up for this week
DTSTART;TZID=America/New_York:20230612T080000
DTEND;TZID=America/New_York:20230616T143000
END:VEVENT
END:VCALENDAR
