BEGIN:VCALENDAR
PRODID:-//eluceo/ical//2.0/EN
VERSION:2.0
CALSCALE:GREGORIAN
BEGIN:VEVENT
UID:ad05a1a6573721a933abcfa272d7817b
DTSTAMP:20260422T040114Z
SUMMARY:Jacqueline Friedland - The Stockwell Letters
DESCRIPTION:Tidewater Jewish Foundation\nCalendar\nhttps://foundation.jewis
 hva.org/calendar/ee--bernard--jaffe-family-jewish-book-festival-program-16
 83570541-448129\n\nJacqueline Friedland - The Stockwell Letters\n\n \n\n(
 Please allow information to load below)
DTSTART;TZID=America/New_York:20231113T193000
DTEND;TZID=America/New_York:20231113T210000
END:VEVENT
END:VCALENDAR
