BEGIN:VCALENDAR
PRODID:-//eluceo/ical//2.0/EN
VERSION:2.0
CALSCALE:GREGORIAN
BEGIN:VEVENT
UID:df3901cf91fc6d3f31ca79ea9c73395c
DTSTAMP:20260426T041302Z
SUMMARY:Every Brilliant Thing
DESCRIPTION:Tidewater Jewish Foundation\nCalendar\nhttps://foundation.jewis
 hva.org/calendar/every-brilliant-thing-1670012223-423047\n\nEvery Beautifu
 l Thing is a touring production of the Virginia Stage Company. This powerf
 ul story is told from the perspective of a single performer. An immersive 
 storytelling experience that blends comedy\, improv\, and audience interac
 tion to tell the story of someone growing up in the shadow of their mother
 &#39\;s struggle with suicidal depression while learning to grapple with t
 heir own journey. Every Brilliant Thing provides a life-affirming jolt of 
 humanism\, reminding us that hope comes from th...
DTSTART;TZID=America/New_York:20230209T183000
DTEND;TZID=America/New_York:20230209T203000
END:VEVENT
END:VCALENDAR
