BEGIN:VCALENDAR
PRODID:-//eluceo/ical//2.0/EN
VERSION:2.0
CALSCALE:GREGORIAN
BEGIN:VEVENT
UID:5c5dfd378c72c79c408b726b20863480
DTSTAMP:20260420T051716Z
SUMMARY:Family Pre Passover Event
DESCRIPTION:Tidewater Jewish Foundation\nCalendar\nhttps://foundation.jewis
 hva.org/calendar/family-pre-passover-event-1698770207-451263\n\nPre Passov
 er activities and more!
DTSTART;TZID=America/New_York:20240407T140000
DTEND;TZID=America/New_York:20240407T153000
END:VEVENT
END:VCALENDAR
