BEGIN:VCALENDAR
PRODID:-//eluceo/ical//2.0/EN
VERSION:2.0
CALSCALE:GREGORIAN
BEGIN:VEVENT
UID:4e447848b8cfec46302768177baba8d8
DTSTAMP:20260421T130008Z
SUMMARY:Family Shabbat Experience at OST
DESCRIPTION:Tidewater Jewish Foundation\nCalendar\nhttps://foundation.jewis
 hva.org/calendar/family-shabbat-experience-at-ost-1704324784-456870\n\nJoi
 n us for an upbeat\, fun\, music-filled and interactive Shabbat morning se
 rvice geared towards kids in preschool to 5th grade and their families. Th
 is special service is free and open to the entire Jewish community\, all a
 re welcome!\nStay for a family style lunch!!
DTSTART;TZID=America/New_York:20240127T103000
DTEND;TZID=America/New_York:20240127T123000
END:VEVENT
END:VCALENDAR
