BEGIN:VCALENDAR
PRODID:-//eluceo/ical//2.0/EN
VERSION:2.0
CALSCALE:GREGORIAN
BEGIN:VEVENT
UID:786556725ddd373b453b421afafdf1f0
DTSTAMP:20260420T075802Z
SUMMARY:Full Scale Exercise\, Emergency Personnel Only
DESCRIPTION:Tidewater Jewish Foundation\nCalendar\nhttps://foundation.jewis
 hva.org/calendar/full-scale-exercise-emergency-personnel-only-1723048785-4
 73730\n\nFull Scale Exercise\, Emergency Personnel Only
DTSTART;TZID=America/New_York:20240811T090000
DTEND;TZID=America/New_York:20240811T160000
END:VEVENT
END:VCALENDAR
