BEGIN:VCALENDAR
PRODID:-//eluceo/ical//2.0/EN
VERSION:2.0
CALSCALE:GREGORIAN
BEGIN:VEVENT
UID:6c9fe8fd3b9115c197ff5715bc4eb1c7
DTSTAMP:20260423T181930Z
SUMMARY:Hardwick Chamber Ensemble
DESCRIPTION:Tidewater Jewish Foundation\nCalendar\nhttps://foundation.jewis
 hva.org/calendar/hardwick-chamber-ensemble-1686239947-440071\n\nThe Hardwi
 ck Chamber Ensemble\, a performing ensemble for Young Audiences of Virgini
 a Inc includes John Winsor (clarinet)\, Natalia Goodloe (violin)\, Jena Ch
 enkin (viola)\, Dionne Smith (Cello)\, and Jeanette Winsor on piano. Ticke
 ts are $25 in advance and $30 at the door and can be purchased at www.jewi
 shmuseumportsmouth.org This concert will be held at The Jewish Museum and 
 Cultural Center.
DTSTART;TZID=America/New_York:20230719T193000
DTEND;TZID=America/New_York:20230719T213000
END:VEVENT
END:VCALENDAR
