BEGIN:VCALENDAR
PRODID:-//eluceo/ical//2.0/EN
VERSION:2.0
CALSCALE:GREGORIAN
BEGIN:VEVENT
UID:53eef2bee843d8e3e44f9ce20b5edaf2
DTSTAMP:20260422T150414Z
SUMMARY:Holocaust Commission Meeting
DESCRIPTION:Tidewater Jewish Foundation\nCalendar\nhttps://foundation.jewis
 hva.org/calendar/holocaust-commission-meeting-1695996211-449327\n\nThis in
 -person meeting will be held at the Simon Family JCC.
DTSTART;TZID=America/New_York:20231011T123000
DTEND;TZID=America/New_York:20231011T133000
END:VEVENT
END:VCALENDAR
