BEGIN:VCALENDAR
PRODID:-//eluceo/ical//2.0/EN
VERSION:2.0
CALSCALE:GREGORIAN
BEGIN:VEVENT
UID:27777092e21b16e51f0255dc6341d2d0
DTSTAMP:20260424T132537Z
SUMMARY:Holocaust Commission Meeting
DESCRIPTION:Tidewater Jewish Foundation\nCalendar\nhttps://foundation.jewis
 hva.org/calendar/holocaust-commission-meeting-1695996333-449328\n\nThis in
 -person meeting will be held at the Simon Family JCC.
DTSTART;TZID=America/New_York:20231213T123000
DTEND;TZID=America/New_York:20231213T133000
END:VEVENT
END:VCALENDAR
