BEGIN:VCALENDAR
PRODID:-//eluceo/ical//2.0/EN
VERSION:2.0
CALSCALE:GREGORIAN
BEGIN:VEVENT
UID:2147e729de2b51c03c0fc57dc14d9229
DTSTAMP:20260421T013341Z
SUMMARY:Holocaust Commission Meeting
DESCRIPTION:Tidewater Jewish Foundation\nCalendar\nhttps://foundation.jewis
 hva.org/calendar/holocaust-commission-meeting-1695996545-449330\n\nThis in
 -person meeting will be held at the Simon Family JCC.
DTSTART;TZID=America/New_York:20240214T123000
DTEND;TZID=America/New_York:20240214T133000
END:VEVENT
END:VCALENDAR
