BEGIN:VCALENDAR
PRODID:-//eluceo/ical//2.0/EN
VERSION:2.0
CALSCALE:GREGORIAN
BEGIN:VEVENT
UID:8d02d902ae5b60392ebfb468fbefde1b
DTSTAMP:20260426T021606Z
SUMMARY:I & O Committee Meeting
DESCRIPTION:Tidewater Jewish Foundation\nCalendar\nhttps://foundation.jewis
 hva.org/calendar/i-o-committee-meeting3-423495\n\nI & O Committee Meeting
DTSTART;TZID=America/New_York:20230227T120000
DTEND;TZID=America/New_York:20230227T140000
END:VEVENT
END:VCALENDAR
