BEGIN:VCALENDAR
PRODID:-//eluceo/ical//2.0/EN
VERSION:2.0
CALSCALE:GREGORIAN
BEGIN:VEVENT
UID:df3a142aa5acc48928c7af8cb9a14e8c
DTSTAMP:20260425T134209Z
SUMMARY:I & O Committee Meeting
DESCRIPTION:Tidewater Jewish Foundation\nCalendar\nhttps://foundation.jewis
 hva.org/calendar/i-o-committee-meeting6-423499\n\nI & O Committee Meeting
DTSTART;TZID=America/New_York:20230515T120000
DTEND;TZID=America/New_York:20230515T140000
END:VEVENT
END:VCALENDAR
