BEGIN:VCALENDAR
PRODID:-//eluceo/ical//2.0/EN
VERSION:2.0
CALSCALE:GREGORIAN
BEGIN:VEVENT
UID:64e31ccb996eac14629df448868c26a6
DTSTAMP:20260423T132909Z
SUMMARY:I & O Committee Meeting
DESCRIPTION:Tidewater Jewish Foundation\nCalendar\nhttps://foundation.jewis
 hva.org/calendar/i-o-committee-meeting7-423500\n\nI & O Committee Meeting
DTSTART;TZID=America/New_York:20230605T120000
DTEND;TZID=America/New_York:20230605T140000
END:VEVENT
END:VCALENDAR
