BEGIN:VCALENDAR
PRODID:-//eluceo/ical//2.0/EN
VERSION:2.0
CALSCALE:GREGORIAN
BEGIN:VEVENT
UID:76b7423f9601aca1d20ecd4a360c07fe
DTSTAMP:20260425T171930Z
SUMMARY:I & O Committee Meeting
DESCRIPTION:Tidewater Jewish Foundation\nCalendar\nhttps://foundation.jewis
 hva.org/calendar/i-o-committee-meeting8-423504\n\nI & O Committee Meeting
DTSTART;TZID=America/New_York:20230320T120000
DTEND;TZID=America/New_York:20230320T140000
END:VEVENT
END:VCALENDAR
