BEGIN:VCALENDAR
PRODID:-//eluceo/ical//2.0/EN
VERSION:2.0
CALSCALE:GREGORIAN
BEGIN:VEVENT
UID:89f86583801c3d8ab4939a66aaf626d6
DTSTAMP:20260425T214523Z
SUMMARY:Insider's Briefing  2023
DESCRIPTION:Tidewater Jewish Foundation\nCalendar\nhttps://foundation.jewis
 hva.org/calendar/insiders-briefing--2023-1674510655-430073\n\nInsider&#39\
 ;s Briefing 2023 - an essential primer for all Virginia Jewish Advocacy Da
 y attendees. Attendees will be provided with detailed talking points on th
 e issues and lobbying tips for meeting with legislators.\n\nWednesday\, Fe
 bruary 1\, at Noon\, Sandler Family Campus\; lunch will be provided at 11:
 30.
DTSTART;TZID=America/New_York:20230201T120000
DTEND;TZID=America/New_York:20230201T130000
END:VEVENT
END:VCALENDAR
