BEGIN:VCALENDAR
PRODID:-//eluceo/ical//2.0/EN
VERSION:2.0
CALSCALE:GREGORIAN
BEGIN:VEVENT
UID:c3e7e1841069b495331912fa622e761b
DTSTAMP:20260423T220047Z
SUMMARY:Israel and Poland a Conversation with Attorney General
DESCRIPTION:Tidewater Jewish Foundation\nCalendar\nhttps://foundation.jewis
 hva.org/calendar/israel-and-poland-a-conversation-with-attorney-general-16
 84255981-438295\n\nThe bipartisan trip spearheaded by Attorney General Miy
 ares\, co-led by North Carolina Attorney General Josh Stein\, included 14 
 attorneys general from across the country. The delegation visited Auschwit
 z with one of the foremost Holocaust scholars in the United States where t
 hey discussed the historical rise of antisemitism in the 1930s and 1940s\,
  and how it was able to thrive in progressive European cities. Included in
  their visit to Israel\, was a meeting with the Ministry of Foreign Affair
 s...
DTSTART;TZID=America/New_York:20230601T123000
DTEND;TZID=America/New_York:20230601T133000
END:VEVENT
END:VCALENDAR
