BEGIN:VCALENDAR
PRODID:-//eluceo/ical//2.0/EN
VERSION:2.0
CALSCALE:GREGORIAN
BEGIN:VEVENT
UID:85e357bb3420acb776aba034c0ca97fc
DTSTAMP:20260424T033408Z
SUMMARY:Israel Club at the JCC- Grades 3-5
DESCRIPTION:Tidewater Jewish Foundation\nCalendar\nhttps://foundation.jewis
 hva.org/calendar/israel-club-at-the-jcc--grades-3-5-1674499695-430032\n\n!
DTSTART;TZID=America/New_York:20230420T153000
DTEND;TZID=America/New_York:20230420T161500
END:VEVENT
END:VCALENDAR
