BEGIN:VCALENDAR
PRODID:-//eluceo/ical//2.0/EN
VERSION:2.0
CALSCALE:GREGORIAN
BEGIN:VEVENT
UID:7d9e854359794d8fb90f528c50b2961a
DTSTAMP:20260424T014042Z
SUMMARY:Israel Club at the JCC- Grades 3-5
DESCRIPTION:Tidewater Jewish Foundation\nCalendar\nhttps://foundation.jewis
 hva.org/calendar/israel-club-at-the-jcc--grades-3-5-1674499731-430033\n\n!
DTSTART;TZID=America/New_York:20230420T163000
DTEND;TZID=America/New_York:20230420T171500
END:VEVENT
END:VCALENDAR
