BEGIN:VCALENDAR
PRODID:-//eluceo/ical//2.0/EN
VERSION:2.0
CALSCALE:GREGORIAN
BEGIN:VEVENT
UID:edbb2a397f1ab8a4ffcfa7063b3491e7
DTSTAMP:20260425T212355Z
SUMMARY:Israel Club at the JCC- Grades K-2
DESCRIPTION:Tidewater Jewish Foundation\nCalendar\nhttps://foundation.jewis
 hva.org/calendar/israel-club-at-the-jcc--grades-k-2-1674499609-430038\n\n!
DTSTART;TZID=America/New_York:20230327T153000
DTEND;TZID=America/New_York:20230327T161500
END:VEVENT
END:VCALENDAR
