BEGIN:VCALENDAR
PRODID:-//eluceo/ical//2.0/EN
VERSION:2.0
CALSCALE:GREGORIAN
BEGIN:VEVENT
UID:60b9ab43e1486061cbc66b637a993441
DTSTAMP:20260425T212416Z
SUMMARY:Israel Club at the JCC- Grades K-2
DESCRIPTION:Tidewater Jewish Foundation\nCalendar\nhttps://foundation.jewis
 hva.org/calendar/israel-club-at-the-jcc--grades-k-2-1674499650-430031\n\n!
DTSTART;TZID=America/New_York:20230327T163000
DTEND;TZID=America/New_York:20230327T171500
END:VEVENT
END:VCALENDAR
