BEGIN:VCALENDAR
PRODID:-//eluceo/ical//2.0/EN
VERSION:2.0
CALSCALE:GREGORIAN
BEGIN:VEVENT
UID:d4ab85d0bf4a6b00211596f3619044ff
DTSTAMP:20260425T214528Z
SUMMARY:Israel Mission
DESCRIPTION:Tidewater Jewish Foundation\nCalendar\nhttps://foundation.jewis
 hva.org/calendar/israel-mission-1652282750-407030\n\nMission trip to Israe
 l (more details to follow)
DTSTART;TZID=America/New_York:20230301T000000
DTEND;TZID=America/New_York:20230309T230000
END:VEVENT
END:VCALENDAR
