BEGIN:VCALENDAR
PRODID:-//eluceo/ical//2.0/EN
VERSION:2.0
CALSCALE:GREGORIAN
BEGIN:VEVENT
UID:f5d6dffbc0d581e8acb8ce91ce752396
DTSTAMP:20260422T225918Z
SUMMARY:Israeli Dancing at the Simon Family JCC
DESCRIPTION:Tidewater Jewish Foundation\nCalendar\nhttps://foundation.jewis
 hva.org/calendar/israeli-dancing-at-the-simon-family-jcc-1691070927-447922
 \n\nWhy Take Israeli Dancing?\n•Cultural Heritage: Israeli dance is deep
 ly rooted in the history and culture of Israel.\n•Community Building: Da
 nce classes offer a unique opportunity for individuals to come together\, 
 build friendships\, and foster a sense of community. These classes can bec
 ome a supportive and welcoming space where people from diverse backgrounds
  can bond over a shared passion for Israeli dance.\n•Physical and Mental
  Well-being: Dancing is a wonderful form of exercise...
DTSTART;TZID=America/New_York:20231004T190000
DTEND;TZID=America/New_York:20231004T201500
END:VEVENT
END:VCALENDAR
