BEGIN:VCALENDAR
PRODID:-//eluceo/ical//2.0/EN
VERSION:2.0
CALSCALE:GREGORIAN
BEGIN:VEVENT
UID:6e4068d0143c3ed309c9373688496ba8
DTSTAMP:20260422T001413Z
SUMMARY:101 Treasures from the National Library of Israel
DESCRIPTION:Tidewater Jewish Foundation\nCalendar\nhttps://foundation.jewis
 hva.org/calendar/jaffe-family-jewish-book-festival--israel-today-program-w
 ith-nli-1687959334-441784\n\n101 Treasures from the National Library of Is
 rael\n\n \n\n(Please wait for information below to load)
DTSTART;TZID=America/New_York:20231129T184500
DTEND;TZID=America/New_York:20231129T203000
END:VEVENT
END:VCALENDAR
