BEGIN:VCALENDAR
PRODID:-//eluceo/ical//2.0/EN
VERSION:2.0
CALSCALE:GREGORIAN
BEGIN:VEVENT
UID:ac6140af59f35f02e81c08ed6888ddf6
DTSTAMP:20260419T191004Z
SUMMARY:JCC Book Club
DESCRIPTION:Tidewater Jewish Foundation\nCalendar\nhttps://foundation.jewis
 hva.org/calendar/jcc-book-club-24-466151\n\nThe Little Liar  by Mitch Al
 bom\n\nIf you enjoy reading and discussing books with others\, this group 
 is for you. The discussions are lively\, informative and at times\, soul-s
 earching.\n\nThird Monday of each month\n1:30 PM – 3:00 PM\nIn-person or
  via Zoom\nPrice: Free
DTSTART;TZID=America/New_York:20240819T133000
DTEND;TZID=America/New_York:20240819T150000
END:VEVENT
END:VCALENDAR
