BEGIN:VCALENDAR
PRODID:-//eluceo/ical//2.0/EN
VERSION:2.0
CALSCALE:GREGORIAN
BEGIN:VEVENT
UID:00b2256c4f454a0dce00ea225017db23
DTSTAMP:20260422T215010Z
SUMMARY:JCC  Book Club - The Hand of Miriam
DESCRIPTION:Tidewater Jewish Foundation\nCalendar\nhttps://foundation.jewis
 hva.org/calendar/jcc-book-club-98-439390\n\nThe Hand of Miram by Ellen Ge
 lerman\n\n\nJoin us for a discussion and online conversation with the auth
 or.\n\nAbout the book:\n\nEvil is the fur­thest thing from 12-year-old Mi
 ri­am Saper­stein’s mind. There’s a new step­fa­ther\, a baby brot
 h­er\, and now a move from her tiny Long Island town to Brook­lyn to liv
 e with a great-grand­moth­er she bare­ly knows. Left to her own devices
  in an unfa­mil­iar place\, Miri­am must find some­thing — or so
 me­one — to enter­...
DTSTART;TZID=America/New_York:20231016T133000
DTEND;TZID=America/New_York:20231016T143000
END:VEVENT
END:VCALENDAR
