BEGIN:VCALENDAR
PRODID:-//eluceo/ical//2.0/EN
VERSION:2.0
CALSCALE:GREGORIAN
BEGIN:VEVENT
UID:6e3af4d6a7c61153b21635d73b14fb93
DTSTAMP:20260420T232831Z
SUMMARY:JCC Book Club - Hello Beautiful
DESCRIPTION:Tidewater Jewish Foundation\nCalendar\nhttps://foundation.jewis
 hva.org/calendar/jcc-book-club-hello-beautiful-459059\n\nHello Beautiful b
 y Ann Napolitano\n\nIf you enjoy reading and discussing books with others\
 , this group is for you. The discussions are lively\, informative and at t
 imes\, soul-searching.\n\nThird Monday of each month\n1:30 PM – 3:00 PM\
 nIn-person or via Zoom\nPrice: Free\n\nRSVP to Mia Klein at 757-452-3184 o
 r MKlein@UJFT.org
DTSTART;TZID=America/New_York:20240415T133000
DTEND;TZID=America/New_York:20240415T143000
END:VEVENT
END:VCALENDAR
