BEGIN:VCALENDAR
PRODID:-//eluceo/ical//2.0/EN
VERSION:2.0
CALSCALE:GREGORIAN
BEGIN:VEVENT
UID:af64b40d226ee8cd1f42f612beb10d4b
DTSTAMP:20260420T075821Z
SUMMARY:JCC Book Club
DESCRIPTION:Tidewater Jewish Foundation\nCalendar\nhttps://foundation.jewis
 hva.org/calendar/jcc-book-club-nov-2024-473046\n\nThe House is on Fire by 
 Rachel Beanland.\n\nIf you enjoy reading and discussing books with others\
 , this group is for you. The discussions are lively\, informative and at t
 imes\, soul-searching.\n\nThird Monday of each month\n1:30 PM – 3:00 PM\
 nIn-person or via Zoom\nPrice: Free
DTSTART;TZID=America/New_York:20241118T133000
DTEND;TZID=America/New_York:20241118T153000
END:VEVENT
END:VCALENDAR
