BEGIN:VCALENDAR
PRODID:-//eluceo/ical//2.0/EN
VERSION:2.0
CALSCALE:GREGORIAN
BEGIN:VEVENT
UID:55feae3cdb109de0030dac8a9647dd8a
DTSTAMP:20260424T085819Z
SUMMARY:JCC Senior Book Club
DESCRIPTION:Tidewater Jewish Foundation\nCalendar\nhttps://foundation.jewis
 hva.org/calendar/jcc-senior-book-club-439386\n\nIf you enjoy reading and d
 iscussing books with others\, this group is for you. \nThe discussions ar
 e lively\, informative and at times\, soul-searching. Join us!\n\nThis Mon
 th&#39\;s Book:  Lessons in Chemistry by Bonnie Garmus\n\nThird Monday of
  each month\n1:30 PM – 3:00 PM\nIn-person or via Zoom\nPrice: Free
DTSTART;TZID=America/New_York:20230619T133000
DTEND;TZID=America/New_York:20230619T143000
END:VEVENT
END:VCALENDAR
