BEGIN:VCALENDAR
PRODID:-//eluceo/ical//2.0/EN
VERSION:2.0
CALSCALE:GREGORIAN
BEGIN:VEVENT
UID:ea26185d79deb8b0df58a3c710ebb6b5
DTSTAMP:20260424T085821Z
SUMMARY:JCC Senior Book Club
DESCRIPTION:Tidewater Jewish Foundation\nCalendar\nhttps://foundation.jewis
 hva.org/calendar/jcc-senior-book-club-439387\n\nIf you enjoy reading and d
 iscussing books with others\, this group is for you. \nThe discussions ar
 e lively\, informative and at times\, soul-searching. Join us!\n\nThis Mon
 th&#39\;s Book:  The Fashion Orphans by Randy Susan Meyers\, MJ Rose\n\nT
 hird Monday of each month\n1:30 PM – 3:00 PM\nIn-person or via Zoom\nPri
 ce: Free
DTSTART;TZID=America/New_York:20230717T133000
DTEND;TZID=America/New_York:20230717T143000
END:VEVENT
END:VCALENDAR
