BEGIN:VCALENDAR
PRODID:-//eluceo/ical//2.0/EN
VERSION:2.0
CALSCALE:GREGORIAN
BEGIN:VEVENT
UID:03be6ff81be609821aeb31b4aab50d01
DTSTAMP:20260422T150503Z
SUMMARY:JCC Seniors Club
DESCRIPTION:Tidewater Jewish Foundation\nCalendar\nhttps://foundation.jewis
 hva.org/calendar/jcc-seniors-club-1673025181-428165\n\nThird Wednesday of 
 each month\n12:30 PM – 2:30 PM\n$15 annual membership fee\n$6 lunch\n\nE
 njoy a meeting and catching up with friends over lunch while taking in a p
 rogram!  With membership\, you will receive a monthly newsletter with upda
 tes and information about programming including United Jewish Federation o
 f Tidewater and Simon Family JCC's Lee and Bernard Jaffe Family Jewish Boo
 k Festival\, Israel Today\, Annual Virginia Festival of Jewish Film\, the 
 Konikoff Center for Learning\, and...
DTSTART;TZID=America/New_York:20230118T123000
DTEND;TZID=America/New_York:20230118T143000
END:VEVENT
END:VCALENDAR
