BEGIN:VCALENDAR
PRODID:-//eluceo/ical//2.0/EN
VERSION:2.0
CALSCALE:GREGORIAN
BEGIN:VEVENT
UID:545bd715d26e5d06b4057bcfc31f2b02
DTSTAMP:20260423T215425Z
SUMMARY:JCC Seniors Club - Recognizing Scams
DESCRIPTION:Tidewater Jewish Foundation\nCalendar\nhttps://foundation.jewis
 hva.org/calendar/jcc-seniors-club-1673025181-441802\n\nThird Wednesday of 
 each month\n12:30 PM – 2:30 PM\n$15 annual membership fee\n$6 lunch\n\nE
 njoy a meeting and catching up with friends over lunch while taking in a p
 rogram!  With membership\, you will receive a monthly newsletter with upda
 tes and information about programming including United Jewish Federation o
 f Tidewater and Simon Family JCC's Lee and Bernard Jaffe Family Jewish Boo
 k Festival\, Israel Today\, Annual Virginia Festival of Jewish Film\, the 
 Konikoff Center for Learning\, and...
DTSTART;TZID=America/New_York:20230719T123000
DTEND;TZID=America/New_York:20230719T143000
END:VEVENT
END:VCALENDAR
