BEGIN:VCALENDAR
PRODID:-//eluceo/ical//2.0/EN
VERSION:2.0
CALSCALE:GREGORIAN
BEGIN:VEVENT
UID:1a23a7e3842b53c8e2ebea28e29608d2
DTSTAMP:20260421T141230Z
SUMMARY:JCC Spring T-Ball Begins
DESCRIPTION:Tidewater Jewish Foundation\nCalendar\nhttps://foundation.jewis
 hva.org/calendar/jcc-spring-t-ball-begins-461761\n\nOpen to all children a
 ges 3-6\, this program teaches the basic techniques and skills of the game
  of tee ball to include throwing\, catching\, hitting\, base running\, and
  team work.  All parents are encouraged to participate with their players
 . Team jersey is included.  \n\nLearn more and Register today!  JewishV
 A.org/Tball
DTSTART;TZID=America/New_York:20240318T000000
DTEND;TZID=America/New_York:20240318T235959
END:VEVENT
END:VCALENDAR
