BEGIN:VCALENDAR
PRODID:-//eluceo/ical//2.0/EN
VERSION:2.0
CALSCALE:GREGORIAN
BEGIN:VEVENT
UID:d33da8730119f221b05a24df27a0d590
DTSTAMP:20260419T191536Z
SUMMARY:JCRC Community Council Meeting
DESCRIPTION:Tidewater Jewish Foundation\nCalendar\nhttps://foundation.jewis
 hva.org/calendar/jcrc-community-council-meeting-1695996053-449325\n\nThis 
 in-person meeting will be held in the Kramer Board Room at the Simon Famil
 y JCC.
DTSTART;TZID=America/New_York:20240417T190000
DTEND;TZID=America/New_York:20240417T203000
END:VEVENT
END:VCALENDAR
