BEGIN:VCALENDAR
PRODID:-//eluceo/ical//2.0/EN
VERSION:2.0
CALSCALE:GREGORIAN
BEGIN:VEVENT
UID:b21162c5566c4fdb59a01cbb2e1896dd
DTSTAMP:20260420T235532Z
SUMMARY:JCRC Virginia Jewish Advocacy Day - Date with the State
DESCRIPTION:Tidewater Jewish Foundation\nCalendar\nhttps://foundation.jewis
 hva.org/calendar/jcrc-virginia-jewish-advocacy-day---date-with-the-state-1
 676324656-431693\n\nMeet your State Senator and Delegate and discuss issue
 s that affect our community!\n\nPlease wait for widget below to load.\n\n
  
DTSTART;TZID=America/New_York:20240207T070000
DTEND;TZID=America/New_York:20240207T160000
END:VEVENT
END:VCALENDAR
