BEGIN:VCALENDAR
PRODID:-//eluceo/ical//2.0/EN
VERSION:2.0
CALSCALE:GREGORIAN
BEGIN:VEVENT
UID:808e3e6a8526ff0beb6d7e106d7cff79
DTSTAMP:20260420T083110Z
SUMMARY:Jewish American Heritage Month Tour @ the Chrysler Museum of Art
DESCRIPTION:Tidewater Jewish Foundation\nCalendar\nhttps://foundation.jewis
 hva.org/calendar/jewish-american-heritage-month-tour--the-chrysler-museum-
 of-art-1742583756-488651\n\nEmbark upon a guided exploration of art in the
  Chrysler Museum&#39\;s collection that relate to Judaic themes or are cre
 ated by Jewish artists. This free tour is presented in partnership with th
 e United Jewish Federation of Tidewater and will meet in Huber Court.\n\nI
 f you have any questions\, please contact Hunter Thomas at HThomas@UJFT.or
 g or 757.965.6137\n\nRegistration required\, please complete the form belo
 w.
DTSTART;TZID=America/New_York:20250525T140000
DTEND;TZID=America/New_York:20250525T150000
END:VEVENT
END:VCALENDAR
