BEGIN:VCALENDAR
PRODID:-//eluceo/ical//2.0/EN
VERSION:2.0
CALSCALE:GREGORIAN
BEGIN:VEVENT
UID:537ecfffe4c6e1120e291cbb9e65f177
DTSTAMP:20260425T000442Z
SUMMARY:Jewish Community Memorial Day Commemoration
DESCRIPTION:Tidewater Jewish Foundation\nCalendar\nhttps://foundation.jewis
 hva.org/calendar/jewish-community-memorial-day-commemoration-1679675251-43
 4520\n\nBefore the Barbecues and Beach Weekends. And this year\, before Sh
 avuot\, begin your Memorial Day at the Simon Family JCC and the Jewish Mil
 itary Community of Norfolk Area. In this short commemoration\, we will hon
 or this nation and those who have paid the ultimate sacrifice to protect i
 deas of liberty\, freedom\, and democracy.
DTSTART;TZID=America/New_York:20230525T083000
DTEND;TZID=America/New_York:20230525T091500
END:VEVENT
END:VCALENDAR
