BEGIN:VCALENDAR
PRODID:-//eluceo/ical//2.0/EN
VERSION:2.0
CALSCALE:GREGORIAN
BEGIN:VEVENT
UID:21f6bb717abd04a10092d6cedb25eea5
DTSTAMP:20260423T153552Z
SUMMARY:Jewish Family Service Bi- Annual Meeting
DESCRIPTION:Tidewater Jewish Foundation\nCalendar\nhttps://foundation.jewis
 hva.org/calendar/jewish-family-service-board-of-directors-bi--annual-meeti
 ng-1681746814-435709\n\nBi- Annual Meeting
DTSTART;TZID=America/New_York:20230630T113000
DTEND;TZID=America/New_York:20230630T130000
END:VEVENT
END:VCALENDAR
