BEGIN:VCALENDAR
PRODID:-//eluceo/ical//2.0/EN
VERSION:2.0
CALSCALE:GREGORIAN
BEGIN:VEVENT
UID:c9a12d7654888a7731571fdfd9b0b2d4
DTSTAMP:20260420T075736Z
SUMMARY:Jewish Family Service\, Embrace Counseling Art Show Opening
DESCRIPTION:Tidewater Jewish Foundation\nCalendar\nhttps://foundation.jewis
 hva.org/calendar/jewish-family-service-embrace-counseling-art-show-opening
 -1742325097-488423\n\nfree art show for anyone who has feelings related to
  living with Neurodiversity (ADHD\, Autism\, etc.). It is open to all ages
 .
DTSTART;TZID=America/New_York:20250407T180000
DTEND;TZID=America/New_York:20250407T190000
END:VEVENT
END:VCALENDAR
