BEGIN:VCALENDAR
PRODID:-//eluceo/ical//2.0/EN
VERSION:2.0
CALSCALE:GREGORIAN
BEGIN:VEVENT
UID:e48f98d284ffbc0dc40e53bb1f33ed13
DTSTAMP:20260420T235537Z
SUMMARY:Jewish Storytime at Van Wyck Library in Ghent
DESCRIPTION:Tidewater Jewish Foundation\nCalendar\nhttps://foundation.jewis
 hva.org/calendar/jewish-storytime-at-van-wyck-library-in-ghent-1704247115-
 456726\n\nPlease join us for a special Jewish-themed Storytime with PJ Lib
 rary. Celebrate Jewish culture through stories\, songs\, crafts\, communit
 y and fun!\nSelect Tuesdays @4-5:30pm\nFeb 13\nMarch 19\nApril 9\nMay 21\n
 June 18
DTSTART;TZID=America/New_York:20240213T160000
DTEND;TZID=America/New_York:20240213T173000
END:VEVENT
END:VCALENDAR
