BEGIN:VCALENDAR
PRODID:-//eluceo/ical//2.0/EN
VERSION:2.0
CALSCALE:GREGORIAN
BEGIN:VEVENT
UID:a1a3ba03653ae236cde2db0fd52f49d3
DTSTAMP:20260423T163205Z
SUMMARY:JFIT Youth Speed + Agility Training
DESCRIPTION:Tidewater Jewish Foundation\nCalendar\nhttps://foundation.jewis
 hva.org/calendar/jfit-youth-speed-agility-training-442682\n\nDAY 1 OF THIS
  4 WEEK TRAINING!\n\nThe trainers at JFIT at the Simon Family JCC are offe
 ring a Youth Agility and Speed training throughout August to help improve 
 strength and performance across all sports!\n\nHeld on TUESDAYS & THURSDAY
 S from 10 – 11:00 AM\, we’ll focus on developing quickness\, balance\,
  mix directional and vertical movement\, power and coordination. Whether y
 ou play football\, volleyball\, tennis\, soccer\, dance or any sport — y
 ou’ll gain invaluable experience — as evalua...
DTSTART;TZID=America/New_York:20230801T100000
DTEND;TZID=America/New_York:20230801T110000
END:VEVENT
END:VCALENDAR
