BEGIN:VCALENDAR
PRODID:-//eluceo/ical//2.0/EN
VERSION:2.0
CALSCALE:GREGORIAN
BEGIN:VEVENT
UID:e87c224f1c1721a2db4c05dd62bfba69
DTSTAMP:20260424T030951Z
SUMMARY:JFS 19th Annual Run\, Roll\, Stroll at Ocean Front
DESCRIPTION:Tidewater Jewish Foundation\nCalendar\nhttps://foundation.jewis
 hva.org/calendar/jfs-19th-annual-run-roll-stroll-at-ocean-front-1654615964
 -408669\n\nJFS Annual Fundraiser Ocean Front
DTSTART;TZID=America/New_York:20230507T080000
DTEND;TZID=America/New_York:20230507T110000
END:VEVENT
END:VCALENDAR
