BEGIN:VCALENDAR
PRODID:-//eluceo/ical//2.0/EN
VERSION:2.0
CALSCALE:GREGORIAN
BEGIN:VEVENT
UID:6ea94ed905d219084a0ee187140ca4b0
DTSTAMP:20260421T121215Z
SUMMARY:JFS 20th Annual Run\, Roll or Stroll Blue and White Fun Run
DESCRIPTION:Tidewater Jewish Foundation\nCalendar\nhttps://foundation.jewis
 hva.org/calendar/jfs-20th-annual-run-roll-or-stroll-blue-and-white-fun-run
 -1705953136-458275\n\nOn May 19th\, Jewish Family Service will be hosting 
 the 20th Annual\, "Blue & White Fun Run!" Let us come together as a commun
 ity in fellowship and activity. The race is open for anyone\, and we encou
 rage families and children to register! For more information\, please reac
 h out to Brooke Rush\, JFS Director of Development\, at brush@jfshamptonro
 ads.org.
DTSTART;TZID=America/New_York:20240519T100000
DTEND;TZID=America/New_York:20240519T113000
END:VEVENT
END:VCALENDAR
