BEGIN:VCALENDAR
PRODID:-//eluceo/ical//2.0/EN
VERSION:2.0
CALSCALE:GREGORIAN
BEGIN:VEVENT
UID:97a68d924ebb83a4685c9b674d864c99
DTSTAMP:20260424T201336Z
SUMMARY:JFS Board of Directors Meeting
DESCRIPTION:Tidewater Jewish Foundation\nCalendar\nhttps://foundation.jewis
 hva.org/calendar/jfs-board-of-directors-meeting-1654611258-424461\n\nJewis
 h Family Service Board of Directors Meeting
DTSTART;TZID=America/New_York:20230509T120000
DTEND;TZID=America/New_York:20230509T130000
END:VEVENT
END:VCALENDAR
