BEGIN:VCALENDAR
PRODID:-//eluceo/ical//2.0/EN
VERSION:2.0
CALSCALE:GREGORIAN
BEGIN:VEVENT
UID:fa1c100e7fc6c68fdf5af457c8a41136
DTSTAMP:20260423T181509Z
SUMMARY:July Birthday Celebration - Active Adults
DESCRIPTION:Tidewater Jewish Foundation\nCalendar\nhttps://foundation.jewis
 hva.org/calendar/july-birthday-celebration-active-adults-440978\n\nJULY AC
 TIVE ADULTS - Celebrate July Birthdays! \n\nAre you over 55?  \nJOIN US
 ! Have some cake!\nDo you have a July birthday?\nLet us honor your special
  day!
DTSTART;TZID=America/New_York:20230707T113000
DTEND;TZID=America/New_York:20230707T120000
END:VEVENT
END:VCALENDAR
